BEGIN:VCALENDAR
VERSION:2.0
PRODID:-//ChamberMaster//Event Calendar 2.0//EN
METHOD:PUBLISH
X-PUBLISHED-TTL:P3D
REFRESH-INTERVAL:P3D
CALSCALE:GREGORIAN
BEGIN:VEVENT
DTSTART:20150520T190000Z
DTEND:20150520T203000Z
X-MICROSOFT-CDO-ALLDAYEVENT:FALSE
SUMMARY:Ribbon Cutting - Western Medical Center Anaheim
DESCRIPTION:Ribbon Cutting for Western Medical Center Anaheim
X-ALT-DESC;FMTTYPE=text/html:Ribbon Cutting for Western Medical Center Anaheim&nbsp\;&nbsp\;&nbsp\;&nbsp\;&nbsp\;&nbsp\;&nbsp\;&nbsp\;
LOCATION:Western Medical Center Anaheim The Lemon Lobby 1025 South Anaheim Blvd. Anaheim\, CA 92805
UID:e.2108.1643
SEQUENCE:3
DTSTAMP:20260420T111448Z
URL:https://business.anaheimchamber.org/events/details/ribbon-cutting-western-medical-center-anaheim-05-20-2015-1643
END:VEVENT

END:VCALENDAR
