BEGIN:VCALENDAR
VERSION:2.0
PRODID:-//ChamberMaster//Event Calendar 2.0//EN
METHOD:PUBLISH
X-PUBLISHED-TTL:P3D
REFRESH-INTERVAL:P3D
CALSCALE:GREGORIAN
BEGIN:VEVENT
DTSTART:20160329T190000Z
DTEND:20160329T210000Z
X-MICROSOFT-CDO-ALLDAYEVENT:FALSE
SUMMARY:Ribbon Cutting - Wu Chiropractic Care\, Inc
DESCRIPTION:Ribbon Cutting\n\nEvent starts at 12:00 pm \n\nRibbon Cutting at 12:30 pm\n\nEvent ends at 2:00 pm
X-ALT-DESC;FMTTYPE=text/html:Ribbon Cutting<br />\nEvent starts at 12:00 pm&nbsp\;<br />\nRibbon Cutting at 12:30 pm<br />\nEvent ends at 2:00 pm<br />\n&nbsp\;
LOCATION:Wu Chiropractic Care\, Inc. 215 N. State College Blvd.\, Ste. B Anaheim\, CA 92806
UID:e.2108.1719
SEQUENCE:3
DTSTAMP:20260421T030354Z
URL:https://business.anaheimchamber.org/events/details/ribbon-cutting-wu-chiropractic-care-inc-03-29-2016-1719
END:VEVENT

END:VCALENDAR
