BEGIN:VCALENDAR
VERSION:2.0
PRODID:-//ChamberMaster//Event Calendar 2.0//EN
METHOD:PUBLISH
X-PUBLISHED-TTL:P3D
REFRESH-INTERVAL:P3D
CALSCALE:GREGORIAN
BEGIN:VEVENT
DTSTART:20141120T200000Z
DTEND:20141120T220000Z
X-MICROSOFT-CDO-ALLDAYEVENT:FALSE
SUMMARY:Ribbon Cutting - Zov's Anaheim
DESCRIPTION:Zov's Anaheim Ribbon Cutting Ceremony
X-ALT-DESC;FMTTYPE=text/html:Zov&#39\;s Anaheim Ribbon Cutting Ceremony<br />\n&nbsp\;
LOCATION:Zov's Anaheim 1801 E. Katella Ave. Anaheim\, CA 92805 714-280-9687
UID:e.2108.1474
SEQUENCE:3
DTSTAMP:20260420T012053Z
URL:https://business.anaheimchamber.org/events/details/ribbon-cutting-zov-s-anaheim-11-20-2014-1474
END:VEVENT

END:VCALENDAR
