BEGIN:VCALENDAR
VERSION:2.0
PRODID:-//ChamberMaster//Event Calendar 2.0//EN
METHOD:PUBLISH
X-PUBLISHED-TTL:P3D
REFRESH-INTERVAL:P3D
CALSCALE:GREGORIAN
BEGIN:VEVENT
DTSTART:20170416T003000Z
DTEND:20170416T060000Z
X-MICROSOFT-CDO-ALLDAYEVENT:FALSE
SUMMARY:Rock of Ages Gala
DESCRIPTION:The Boys and Girls Clubs of Anaheim would like to invite you to partner with us in providing children with quality afterschool programs in a safe and comfortable environment. On Saturday\, April 15\, 2017\, the Boys & Girls Clubs of Anaheim will hold its Rock of Ages Gala\, and it promises to be better than ever. The event takes place at Angel Stadium in Anaheim\, with food\, fun\, dancing and more! Proceeds from this event will help support operations at the Boys & Girls Clubs of Anaheim. If you would like to receive more information about the Rock of Ages\, we would be happy to provide it. Contact us at 714.491.3617 or to purchase tickets visit theboysandgirlsclub.org/rock-of-ages
X-ALT-DESC;FMTTYPE=text/html:The Boys and Girls Clubs of Anaheim would like to invite you to partner with us in providing children with quality afterschool programs in a safe and comfortable environment. On Saturday\, April 15\, 2017\, the Boys &amp\; Girls Clubs of Anaheim will hold its Rock of Ages Gala\, and it promises to be better than ever. The event takes place at Angel Stadium in Anaheim\, with food\, fun\, dancing and more! Proceeds from this event will help support operations at the Boys &amp\; Girls Clubs of Anaheim. If you would like to receive more information about the Rock of Ages\, we would be happy to provide it. Contact us at 714.491.3617 or to purchase tickets visit theboysandgirlsclub.org/rock-of-ages
LOCATION:Angels Stadium of Anaheim 2000 E Gene Autry Way Anaheim CA\, 92806
UID:e.2108.2332
SEQUENCE:3
DTSTAMP:20260421T234412Z
URL:https://business.anaheimchamber.org/events/details/rock-of-ages-gala-2332
END:VEVENT

END:VCALENDAR
