BEGIN:VCALENDAR
VERSION:2.0
PRODID:-//ChamberMaster//Event Calendar 2.0//EN
METHOD:PUBLISH
X-PUBLISHED-TTL:P3D
REFRESH-INTERVAL:P3D
CALSCALE:GREGORIAN
BEGIN:VEVENT
DTSTART:20180415T000000Z
DTEND:20180415T050000Z
X-MICROSOFT-CDO-ALLDAYEVENT:FALSE
SUMMARY:Rock\, Stock\, & Barrels Gala
DESCRIPTION:On Saturday\, April 14\, 2018\, the Boys & Girls Clubs of Anaheim will hold its Rock\, Stock\, and Barrels Gala at Angel Stadium. Guests will enjoy a fun evening with a champagne and whiskey reception\, silent auction\, dinner\, and live music all while raising funds to support the Boys & Girls Clubs of Anaheim and its mission "to inspire and enable all young people\, especially those who need us most\, to reach their full potential as productive\, caring\, responsible citizens".
X-ALT-DESC;FMTTYPE=text/html:<span style="font-family:tahoma\,sans-serif"><span style="font-size:10.0pt">On Saturday\, April 14\, 2018\, the Boys &amp\; Girls Clubs of Anaheim will hold its <strong><em>Rock\, Stock\, and Barrels Gala </em></strong>at Angel Stadium. Guests will enjoy a fun evening with a champagne and whiskey reception\, silent auction\, dinner\, and live music all while raising funds to support the Boys &amp\; Girls Clubs of Anaheim and its mission &ldquo\;<strong>to inspire and enable all young people\, especially those who need us most\, to reach their full potential as productive\, caring\, responsible citizens&rdquo\;.</strong></span></span>
LOCATION:Angels Stadium of Anaheim 2000 E Gene Autry Way Anaheim\, CA 92806
UID:e.2108.2465
SEQUENCE:3
DTSTAMP:20260422T204505Z
URL:https://business.anaheimchamber.org/events/details/rock-stock-barrels-gala-2465
END:VEVENT

END:VCALENDAR
