BEGIN:VCALENDAR
VERSION:2.0
PRODID:-//ChamberMaster//Event Calendar 2.0//EN
METHOD:PUBLISH
X-PUBLISHED-TTL:P3D
REFRESH-INTERVAL:P3D
CALSCALE:GREGORIAN
BEGIN:VEVENT
DTSTART:20210223T170000Z
DTEND:20210223T183000Z
X-MICROSOFT-CDO-ALLDAYEVENT:FALSE
SUMMARY:Sales & Use Tax for Nonprofit Organizations
DESCRIPTION:Many are surprised to learn that there is no blanket exemption and that a seller's permit is required for most nonprofits. Get the rules that apply to your particular 501(c)(3)\, religious\, youth\, veteran\, school\, fraternal or other charitable organization. You'll receive instruction on holding that spaghetti dinner or pancake breakfast\, selling gift baskets\, conducting raffles\, and other taxable fund raisers. This webinar\, conducted through Microsoft Teams\, should be viewed via a pc or laptop\, NOT a phone or mobile device. After registering\, you will be emailed a link to the Microsoft Teams webinar the day before the class.
X-ALT-DESC;FMTTYPE=text/html:<span style="color: rgb(0\, 0\, 0)\; font-family: &quot\;Source Sans Pro&quot\;\, sans-serif\; font-size: 19.2px\; background-color: rgb(245\, 245\, 245)\;">Many are surprised to learn that there is no blanket exemption and that a seller&#39\;s permit is required for most nonprofits. Get the rules that apply to your particular 501(c)(3)\, religious\, youth\, veteran\, school\, fraternal or other charitable organization. You&rsquo\;ll receive instruction on holding that spaghetti dinner or pancake breakfast\, selling gift baskets\, conducting raffles\, and other taxable fund raisers. This webinar\, conducted through Microsoft Teams\, should be viewed via a pc or laptop\, NOT a phone or mobile device. After registering\, you will be emailed a link to the Microsoft Teams webinar the day before the class.</span>
LOCATION:Webinar
UID:e.2108.3917
SEQUENCE:3
DTSTAMP:20260423T054749Z
URL:https://business.anaheimchamber.org/events/details/sales-use-tax-for-nonprofit-organizations-3917
END:VEVENT

END:VCALENDAR
