BEGIN:VCALENDAR
VERSION:2.0
PRODID:-//ChamberMaster//Event Calendar 2.0//EN
METHOD:PUBLISH
X-PUBLISHED-TTL:P3D
REFRESH-INTERVAL:P3D
CALSCALE:GREGORIAN
BEGIN:VEVENT
DTSTART:20210217T200000Z
DTEND:20210217T203000Z
X-MICROSOFT-CDO-ALLDAYEVENT:FALSE
SUMMARY:Sales & Use Tax – Return Preparation
DESCRIPTION:Get step-by-step instructions on how to file your Sales and Use Tax return electronically using our new online services system. Learn how to pay use tax\, figure out deductions\, and calculate district tax when it's applicable to your sales. You'll finish with the know-how to file your sales and use tax return completely online! This webinar\, conducted through Microsoft Teams\, should be viewed via a pc or laptop\, NOT a phone or mobile device. After registering\, you will be emailed a link to the Microsoft Teams webinar the day before the class.
X-ALT-DESC;FMTTYPE=text/html:<span style="font-family: &quot\;Source Sans Pro&quot\;\, sans-serif\; font-size: 19.2px\; background-color: rgb(245\, 245\, 245)\;">Get step-by-step instructions on how to file your Sales and Use Tax return electronically using our new online services system. Learn how to pay use tax\, figure out deductions\, and calculate district tax when it&rsquo\;s applicable to your sales. You&rsquo\;ll finish with the know-how to file your sales and use tax return completely online! This webinar\, conducted through Microsoft Teams\, should be viewed via a pc or laptop\, NOT a phone or mobile device. After registering\, you will be emailed a link to the Microsoft Teams webinar the day before the class.</span>
LOCATION:Webinar
UID:e.2108.3916
SEQUENCE:3
DTSTAMP:20260423T054525Z
URL:https://business.anaheimchamber.org/events/details/sales-use-tax-return-preparation-3916
END:VEVENT

END:VCALENDAR
