BEGIN:VCALENDAR
VERSION:2.0
PRODID:-//ChamberMaster//Event Calendar 2.0//EN
METHOD:PUBLISH
X-PUBLISHED-TTL:P3D
REFRESH-INTERVAL:P3D
CALSCALE:GREGORIAN
BEGIN:VEVENT
DTSTART:20170723T000000Z
DTEND:20170723T070000Z
X-MICROSOFT-CDO-ALLDAYEVENT:FALSE
SUMMARY:Sausage & Biefest
DESCRIPTION:Come Celebrate our Sausage and Bierfest in our Festhalle! We will have German beer on Tap\, Sausages\, and Live Music for your entertainment.
X-ALT-DESC;FMTTYPE=text/html:Come Celebrate our Sausage and Bierfest in our Festhalle! We will have German beer on Tap\, Sausages\, and Live Music for your entertainment.
LOCATION:The Phoenix Club- 1340 S. Sanderson Ave\, Anaheim\, 92806
UID:e.2108.2358
SEQUENCE:3
DTSTAMP:20260422T043446Z
URL:https://business.anaheimchamber.org/events/details/sausage-biefest-2358
END:VEVENT

END:VCALENDAR
