BEGIN:VCALENDAR
VERSION:2.0
PRODID:-//ChamberMaster//Event Calendar 2.0//EN
METHOD:PUBLISH
X-PUBLISHED-TTL:P3D
REFRESH-INTERVAL:P3D
CALSCALE:GREGORIAN
BEGIN:VEVENT
DTSTART:20170401T140000Z
DTEND:20170401T210000Z
X-MICROSOFT-CDO-ALLDAYEVENT:FALSE
SUMMARY:Show Em The Love
DESCRIPTION:Come out and "Show 'Em The Love" to our Veterans\, Active Duty\, Reservists during our Open House & Fundraising Event.  This is a family friendly event and open to the public.\n\n\n\n$5.00 Pancake Breakfast $5.00 BBQ Lunch.  \n\n\n\nCan't make it\, you can always buy a ticket so we can feed a Veteran\, Active Duty\, Reservists.  Come by and take a tour and see first hand what amazing work we do.  We have Vendor and Sponsorship opportunities available.  Email events@patriotsandpaws.org for further information.
X-ALT-DESC;FMTTYPE=text/html:Come out and<strong>&nbsp\;&quot\;Show &#39\;Em The Love&quot\;</strong>&nbsp\;to our&nbsp\;<strong>Veterans\, Active Duty\, Reservists</strong>&nbsp\;during our Open House &amp\; Fundraising Event. &nbsp\;This is a family friendly event and open to the public.<br />\n<br />\n<strong>$5.00</strong>&nbsp\;Pancake Breakfast $<strong>5.00</strong>&nbsp\;BBQ Lunch. &nbsp\;<br />\n<br />\nCan&#39\;t make it\, you can always buy a ticket so we can feed a Veteran\, Active Duty\, Reservists. &nbsp\;Come by and take a tour and see first hand what amazing work we do. &nbsp\;We have Vendor and Sponsorship opportunities available. &nbsp\;Email events@patriotsandpaws.org for further information.
LOCATION:Our warehouse location is 1515 W. Collins\, Orange\, 92867
UID:e.2108.2314
SEQUENCE:3
DTSTAMP:20260421T234432Z
URL:https://business.anaheimchamber.org/events/details/show-em-the-love-2314
END:VEVENT

END:VCALENDAR
