BEGIN:VCALENDAR
VERSION:2.0
PRODID:-//ChamberMaster//Event Calendar 2.0//EN
METHOD:PUBLISH
X-PUBLISHED-TTL:P3D
REFRESH-INTERVAL:P3D
CALSCALE:GREGORIAN
BEGIN:VEVENT
DTSTART:20210225T180000Z
DTEND:20210225T193000Z
X-MICROSOFT-CDO-ALLDAYEVENT:FALSE
SUMMARY:Simple Steps to Brand Yourself as an Entrepreneur
DESCRIPTION:
X-ALT-DESC;FMTTYPE=text/html:
LOCATION:Webinar
UID:e.2108.3900
SEQUENCE:3
DTSTAMP:20260423T054657Z
URL:https://business.anaheimchamber.org/events/details/simple-steps-to-brand-yourself-as-an-entrepreneur-3900
END:VEVENT

END:VCALENDAR
