BEGIN:VCALENDAR
VERSION:2.0
PRODID:-//ChamberMaster//Event Calendar 2.0//EN
METHOD:PUBLISH
X-PUBLISHED-TTL:P3D
REFRESH-INTERVAL:P3D
CALSCALE:GREGORIAN
BEGIN:VEVENT
DTSTART:20210217T020000Z
DTEND:20210217T033000Z
X-MICROSOFT-CDO-ALLDAYEVENT:FALSE
SUMMARY:Small Business Tools for Any Budget
DESCRIPTION:Managing a Business\, Social Media\, Specialized Assistance\, Technology
X-ALT-DESC;FMTTYPE=text/html:<span style="font-family: Lato\, Arial\, Helvetica\, sans-serif\; font-size: 16px\;">&nbsp\;Managing a Business\, Social Media\, Specialized Assistance\, Technology</span>
LOCATION:Webinar
UID:e.2108.3882
SEQUENCE:3
DTSTAMP:20260423T072528Z
URL:https://business.anaheimchamber.org/events/details/small-business-tools-for-any-budget-3882
END:VEVENT

END:VCALENDAR
