BEGIN:VCALENDAR
VERSION:2.0
PRODID:-//ChamberMaster//Event Calendar 2.0//EN
METHOD:PUBLISH
X-PUBLISHED-TTL:P3D
REFRESH-INTERVAL:P3D
CALSCALE:GREGORIAN
BEGIN:VEVENT
DTSTART:20210203T200000Z
DTEND:20210203T210000Z
X-MICROSOFT-CDO-ALLDAYEVENT:FALSE
SUMMARY:SOCIAL MEDIA - HOW TO USE CONTENT CALENDARING TO INCREASE SALES WITH YOUR CLIENTS
DESCRIPTION:During the session\, you'll learn how to use a social media calendar to communicate effectively with your clients that will lead to additional sales. We will walk through when and how often to communicate\, maximize messaging for sales increase\, and what tools you can use to create\,  manage\, and message out that are free.
X-ALT-DESC;FMTTYPE=text/html:<span style="color: rgb(101\, 101\, 101)\; font-family: &quot\;open sans&quot\;\, &quot\;arial narrow&quot\;\; font-size: 11px\; background-color: rgb(244\, 244\, 244)\;">During the session\, you&rsquo\;ll learn how to use a&nbsp\;social media&nbsp\;calendar to communicate effectively&nbsp\;with your clients that will lead to additional sales.&nbsp\;We will walk through when and how often to communicate\, maximize messaging for sales increase\, and what tools you can use&nbsp\;to create\, &nbsp\;manage\, and message out that are free.</span>
LOCATION:Webinar
UID:e.2108.3841
SEQUENCE:3
DTSTAMP:20260423T072749Z
URL:https://business.anaheimchamber.org/events/details/social-media-how-to-use-content-calendaring-to-increase-sales-with-your-clients-3841
END:VEVENT

END:VCALENDAR
