BEGIN:VCALENDAR
VERSION:2.0
PRODID:-//ChamberMaster//Event Calendar 2.0//EN
METHOD:PUBLISH
X-PUBLISHED-TTL:P3D
REFRESH-INTERVAL:P3D
CALSCALE:GREGORIAN
BEGIN:VEVENT
DTSTART:20210209T220000Z
DTEND:20210209T230000Z
X-MICROSOFT-CDO-ALLDAYEVENT:FALSE
SUMMARY:Social Media Marketing Webinar Series
DESCRIPTION:A presence on social media can be critical during a global pandemic. Join us for this two day series that will discuss all you need to know about marketing via Social Media! \n\nClass One | March 9 | Social Media Marketing Basics\n\n\n	What is Social Media Marketing?\n	Getting Started\n	Hashtags and How to Use Them\n\n\nClass Two | March 10 | Social Media Marketing Strategy\n\n\n	Creating a Strategy\n	Running Campaigns\n\n\nYou will receive a link the day of the webinar.
X-ALT-DESC;FMTTYPE=text/html:<p style="margin-top: 0px\; margin-bottom: 10px\; line-height: 23.2px\; font-family: Lato\, Arial\, Helvetica\, sans-serif\; font-size: 16px\;">A presence on social media can be critical during a global pandemic. Join us for this two day series that will discuss all you need to know about marketing via Social Media!&nbsp\;</p>\n\n<p style="margin-top: 0px\; margin-bottom: 10px\; line-height: 23.2px\; font-family: Lato\, Arial\, Helvetica\, sans-serif\; font-size: 16px\;">Class One | March 9 | Social Media Marketing Basics</p>\n\n<ul style="margin-top: 3px\; font-family: Lato\, Arial\, Helvetica\, sans-serif\; font-size: 16px\;">\n	<li style="margin-top: 0px\; margin-left: 0px\; line-height: 25.6px\;">What is Social Media Marketing?</li>\n	<li style="margin-top: 0px\; margin-left: 0px\; line-height: 25.6px\;">Getting Started</li>\n	<li style="margin-top: 0px\; margin-left: 0px\; line-height: 25.6px\;">Hashtags and How to Use Them</li>\n</ul>\n\n<p style="margin-top: 0px\; margin-bottom: 10px\; line-height: 23.2px\; font-family: Lato\, Arial\, Helvetica\, sans-serif\; font-size: 16px\;">Class Two | March 10 | Social Media Marketing Strategy</p>\n\n<ul style="margin-top: 3px\; font-family: Lato\, Arial\, Helvetica\, sans-serif\; font-size: 16px\;">\n	<li style="margin-top: 0px\; margin-left: 0px\; line-height: 25.6px\;">Creating a Strategy</li>\n	<li style="margin-top: 0px\; margin-left: 0px\; line-height: 25.6px\;">Running Campaigns</li>\n</ul>\n\n<p style="margin-top: 0px\; margin-bottom: 10px\; line-height: 23.2px\; font-family: Lato\, Arial\, Helvetica\, sans-serif\; font-size: 16px\;">You will receive a link the day of the webinar.&nbsp\;</p>\n
LOCATION:Webinar
UID:e.2108.3948
SEQUENCE:3
DTSTAMP:20260423T054657Z
URL:https://business.anaheimchamber.org/events/details/social-media-marketing-webinar-series-3948
END:VEVENT

END:VCALENDAR
