BEGIN:VCALENDAR
VERSION:2.0
PRODID:-//ChamberMaster//Event Calendar 2.0//EN
METHOD:PUBLISH
X-PUBLISHED-TTL:P3D
REFRESH-INTERVAL:P3D
CALSCALE:GREGORIAN
BEGIN:VEVENT
DTSTART:20180612T183000Z
DTEND:20180612T210000Z
X-MICROSOFT-CDO-ALLDAYEVENT:FALSE
SUMMARY:Sports Newsmakers Luncheon June 12\,2018
DESCRIPTION:June 12\, Sports Newsmakers Lunch
X-ALT-DESC;FMTTYPE=text/html:June 12\, Sports Newsmakers Lunch
LOCATION:The Catch 2100 E. Katella Ave. #104 Anaheim\, CA 92806
UID:e.2108.2461
SEQUENCE:3
DTSTAMP:20260422T221445Z
URL:https://business.anaheimchamber.org/events/details/sports-newsmakers-luncheon-june-12-2018-2461
END:VEVENT

END:VCALENDAR
