BEGIN:VCALENDAR
VERSION:2.0
PRODID:-//ChamberMaster//Event Calendar 2.0//EN
METHOD:PUBLISH
X-PUBLISHED-TTL:P3D
REFRESH-INTERVAL:P3D
CALSCALE:GREGORIAN
BEGIN:VEVENT
DTSTART:20170623T000000Z
DTEND:20170623T030000Z
X-MICROSOFT-CDO-ALLDAYEVENT:FALSE
SUMMARY:State Route Improvement Project
DESCRIPTION:The SR-57 Northbound Improvement Project is the third in a series of projects designed to increase mobility and enhance safety on the northbound 57 freeway\, one of the busiest corridors in Orange County. Currently in the environmental study and preliminary engineering phase\, OCTA and Caltrans will evaluate the potential benefits and effects of extending the 5th general purpose lane to this segment of northbound SR-57 within the cities of Anaheim and Orange. This study began in mid-2016 and is scheduled to be completed in late 2018. Caltrans is the lead agency for the project under CEQA and NEPA\, and OCTA is the sponsoring agency. This study is funded by Measure M\, Orange County's Transportation Investment Plan renewed by early 70% of voters in 2006. Measure M information can be viewed at\n\nwww.octa.net/pdf/investmentplan.pdf.
X-ALT-DESC;FMTTYPE=text/html:The SR-57 Northbound Improvement Project is the third in a series of projects designed to increase mobility and enhance safety on the northbound 57 freeway\, one of the busiest corridors in Orange County. Currently in the environmental study and preliminary engineering phase\, OCTA and Caltrans will evaluate the potential benefits and effects of extending the 5th general purpose lane to this segment of northbound SR-57 within the cities of Anaheim and Orange. This study began in mid-2016 and is scheduled to be completed in late 2018. Caltrans is the lead agency for the project under CEQA and NEPA\, and OCTA is the sponsoring agency. This study is funded by Measure M\, Orange County&rsquo\;s Transportation Investment Plan renewed by early 70% of voters in 2006. Measure M information can be viewed at<br />\nwww.octa.net/pdf/investmentplan.pdf.
LOCATION:Portola Middle School Cafeteria 270 North Palm Drive\, Orange\, CA 92868
UID:e.2108.2365
SEQUENCE:3
DTSTAMP:20260422T025712Z
URL:https://business.anaheimchamber.org/events/details/state-route-improvement-project-2365
END:VEVENT

END:VCALENDAR
