BEGIN:VCALENDAR
VERSION:2.0
PRODID:-//ChamberMaster//Event Calendar 2.0//EN
METHOD:PUBLISH
X-PUBLISHED-TTL:P3D
REFRESH-INTERVAL:P3D
CALSCALE:GREGORIAN
BEGIN:VEVENT
DTSTART:20210217T180000Z
DTEND:20210217T193000Z
X-MICROSOFT-CDO-ALLDAYEVENT:FALSE
SUMMARY:Stress-Free Business Taxes
DESCRIPTION:Take the stress out of preparing for your business taxes! We'll cover the basics\, from business tax requirements through working from home to deductions\, credits\, and recordkeeping to get you ready for a stress-free tax day.
X-ALT-DESC;FMTTYPE=text/html:<span style="font-family: Lato\, Arial\, Helvetica\, sans-serif\; font-size: 16px\;">Take the stress out of preparing for your business taxes! We&rsquo\;ll cover the basics\, from business tax requirements through working from home to deductions\, credits\, and recordkeeping to get you ready for a stress-free tax day.</span>
LOCATION:Webinar
UID:e.2108.3883
SEQUENCE:3
DTSTAMP:20260423T054824Z
URL:https://business.anaheimchamber.org/events/details/stress-free-business-taxes-3883
END:VEVENT

END:VCALENDAR
