BEGIN:VCALENDAR
VERSION:2.0
PRODID:-//ChamberMaster//Event Calendar 2.0//EN
METHOD:PUBLISH
X-PUBLISHED-TTL:P3D
REFRESH-INTERVAL:P3D
CALSCALE:GREGORIAN
BEGIN:VEVENT
DTSTART:20210219T020000Z
DTEND:20210219T033000Z
X-MICROSOFT-CDO-ALLDAYEVENT:FALSE
SUMMARY:SWOT (Strength\, Weakness\, Opportunities\, and Threats) Analysis Strategy
DESCRIPTION:Business Start-up/Preplanning\, Managing a Business\, Risk Management\, Specialized Assistance
X-ALT-DESC;FMTTYPE=text/html:<span style="color: rgb(0\, 0\, 0)\; font-family: Lato\, Arial\, Helvetica\, sans-serif\; font-size: 16px\;">Business Start-up/Preplanning\, Managing a Business\, Risk Management\, Specialized Assistance</span>
LOCATION:Webinar
UID:e.2108.3888
SEQUENCE:3
DTSTAMP:20260423T054701Z
URL:https://business.anaheimchamber.org/events/details/swot-strength-weakness-opportunities-and-threats-analysis-strategy-3888
END:VEVENT

END:VCALENDAR
