BEGIN:VCALENDAR
VERSION:2.0
PRODID:-//ChamberMaster//Event Calendar 2.0//EN
METHOD:PUBLISH
X-PUBLISHED-TTL:P3D
REFRESH-INTERVAL:P3D
CALSCALE:GREGORIAN
BEGIN:VEVENT
DTSTART:20210212T020000Z
DTEND:20210212T033000Z
X-MICROSOFT-CDO-ALLDAYEVENT:FALSE
SUMMARY:Teleworking – Management and Practice
DESCRIPTION:The webinar will cover: -Leading with Empathy- striking a balance between working from home and managing productivity -Leverage collaboration tools to stay connected -Protecting and managing data and equipment with your mobile workforce\nInstructions: In response to COVID-19 public health concerns\, we will be moving all in-person workshops to online video platforms until further notice. For security purposes\, you will be sent a link to join the meeting 30 minutes prior to the scheduled start time. Please look for the meeting link on the day of the training.
X-ALT-DESC;FMTTYPE=text/html:<div class="conf-desc" style="padding-top: 0px\; padding-bottom: 10px\; font-family: Lato\, Arial\, Helvetica\, sans-serif\; font-size: 16px\;">The webinar will cover: -Leading with Empathy- striking a balance between working from home and managing productivity -Leverage collaboration tools to stay connected -Protecting and managing data and equipment with your mobile workforce</div>\n<label style="font-weight: bold\; line-height: 20px\; font-family: Lato\, Arial\, Helvetica\, sans-serif\; font-size: 16px\;">Instructions:</label><span style="font-family: Lato\, Arial\, Helvetica\, sans-serif\; font-size: 16px\;">&nbsp\;In response to COVID-19 public health concerns\, we will be moving all in-person workshops to online video platforms until further notice. For security purposes\, you will be sent a link to join the meeting 30 minutes prior to the scheduled start time. Please look for the meeting link on the day of the training.</span>
LOCATION:Webinar
UID:e.2108.3878
SEQUENCE:3
DTSTAMP:20260423T054405Z
URL:https://business.anaheimchamber.org/events/details/teleworking-management-and-practice-3878
END:VEVENT

END:VCALENDAR
