BEGIN:VCALENDAR
VERSION:2.0
PRODID:-//ChamberMaster//Event Calendar 2.0//EN
METHOD:PUBLISH
X-PUBLISHED-TTL:P3D
REFRESH-INTERVAL:P3D
CALSCALE:GREGORIAN
BEGIN:VEVENT
DTSTART:20210203T020000Z
DTEND:20210203T033000Z
X-MICROSOFT-CDO-ALLDAYEVENT:FALSE
SUMMARY:The ABC’s of Starting Your Own Business
DESCRIPTION:
X-ALT-DESC;FMTTYPE=text/html:
LOCATION:Webinar
UID:e.2108.3859
SEQUENCE:3
DTSTAMP:20260423T054912Z
URL:https://business.anaheimchamber.org/events/details/the-abc-s-of-starting-your-own-business-3859
END:VEVENT

END:VCALENDAR
