BEGIN:VCALENDAR
VERSION:2.0
PRODID:-//ChamberMaster//Event Calendar 2.0//EN
METHOD:PUBLISH
X-PUBLISHED-TTL:P3D
REFRESH-INTERVAL:P3D
CALSCALE:GREGORIAN
BEGIN:VEVENT
DTSTART:20180627T183000Z
DTEND:20180627T203000Z
X-MICROSOFT-CDO-ALLDAYEVENT:FALSE
SUMMARY:The Anaheim Performing Arts Center Foundation 2018
DESCRIPTION:Join us for an afternoon of live performance and good company while learning more about the Anaheim Performing Arts Center Foundation. This event will be held in the spectacular ballroom of Dr. Israel and Rosalda Chambi's estate in Anaheim Hills with entertainment provided by Broadway performer Janene Lovullo. Our summer luncheon is the perfect social outing for you and your friends.\n\n\n\nFor more info and tickets sales go to: https://www.eventbrite.com/e/annual-summer-luncheon-tickets-46202146865
X-ALT-DESC;FMTTYPE=text/html:Join us for an afternoon of live performance and good company while learning more about the Anaheim Performing Arts Center Foundation. This event will be held in the spectacular ballroom of Dr. Israel and Rosalda Chambi&#39\;s estate in Anaheim Hills with entertainment provided by Broadway performer Janene Lovullo. Our summer luncheon is the perfect social outing for you and your friends.<br />\n<br />\nFor more info and tickets sales go to:&nbsp\;https://www.eventbrite.com/e/annual-summer-luncheon-tickets-46202146865<br />\n&nbsp\;
LOCATION:Chambi Estate 122 S. Montgomery Way. Anaheim\, CA 92807
UID:e.2108.2485
SEQUENCE:3
DTSTAMP:20260422T221123Z
URL:https://business.anaheimchamber.org/events/details/the-anaheim-performing-arts-center-foundation-2018-2485
END:VEVENT

END:VCALENDAR
