BEGIN:VCALENDAR
VERSION:2.0
PRODID:-//ChamberMaster//Event Calendar 2.0//EN
METHOD:PUBLISH
X-PUBLISHED-TTL:P3D
REFRESH-INTERVAL:P3D
CALSCALE:GREGORIAN
BEGIN:VEVENT
DTSTART:20180329T230000Z
DTEND:20180330T030000Z
X-MICROSOFT-CDO-ALLDAYEVENT:FALSE
SUMMARY:The Largest Mixer 3.29.18
DESCRIPTION:Successful business relationships begin with an introduction and a handshake.\n\nLargest Mixer provides the introduction and YOU provide the handshake.
X-ALT-DESC;FMTTYPE=text/html:Successful business relationships begin with an introduction and a handshake.<br />\nLargest Mixer provides the introduction and YOU provide the handshake.
LOCATION:OC Fair & Event Center 88 Fair Dr\, Costa Mesa\, CA 92626
UID:e.2108.2450
SEQUENCE:3
DTSTAMP:20260422T175022Z
URL:https://business.anaheimchamber.org/events/details/the-largest-mixer-3-29-18-2450
END:VEVENT

END:VCALENDAR
