BEGIN:VCALENDAR
VERSION:2.0
PRODID:-//ChamberMaster//Event Calendar 2.0//EN
METHOD:PUBLISH
X-PUBLISHED-TTL:P3D
REFRESH-INTERVAL:P3D
CALSCALE:GREGORIAN
BEGIN:VEVENT
DTSTART:20210225T020000Z
DTEND:20210225T033000Z
X-MICROSOFT-CDO-ALLDAYEVENT:FALSE
SUMMARY:The Vision Workshop: 3 Keys to Accelerating Your Results
DESCRIPTION:In 1853\, Henry David Thoreau wrote a famous essay called "Walden\," in which he included a hidden code for prosperous living. During this dynamic Vision workshop you will unlock this code so that you can harness your life's purpose and the prosperity you deserve!
X-ALT-DESC;FMTTYPE=text/html:<span style="color: rgb(0\, 0\, 0)\; font-family: Lato\, Arial\, Helvetica\, sans-serif\; font-size: 16px\;">In 1853\, Henry David Thoreau wrote a famous essay called &ldquo\;Walden\,&rdquo\; in which he included a hidden code for prosperous living. During this dynamic Vision workshop you will unlock this code so that you can harness your life&rsquo\;s purpose and the prosperity you deserve!</span>
LOCATION:Webinar
UID:e.2108.3898
SEQUENCE:3
DTSTAMP:20260423T054701Z
URL:https://business.anaheimchamber.org/events/details/the-vision-workshop-3-keys-to-accelerating-your-results-3898
END:VEVENT

END:VCALENDAR
