BEGIN:VCALENDAR
VERSION:2.0
PRODID:-//ChamberMaster//Event Calendar 2.0//EN
METHOD:PUBLISH
X-PUBLISHED-TTL:P3D
REFRESH-INTERVAL:P3D
CALSCALE:GREGORIAN
BEGIN:VEVENT
DTSTART:20210908T003000Z
DTEND:20210908T023000Z
X-MICROSOFT-CDO-ALLDAYEVENT:FALSE
SUMMARY:Veterans Webinar Series – Session 1 Boots to Business & Boots to Business Reboot
DESCRIPTION:Did you know the SBA has resources and programs for veterans in the military community? If you are a transitioning or active-duty service member\, a veteran of any type\, or a military spouse\, the SBA is here to help. The purpose of this webinar is to inspire veterans and military spouses who want to become business owners and learn more about the Boots to Business and Boots to Business Reboot (B2BR) programs. Presented in collaboration with SBA OCIEDO\, Veteran Couture Inc\, and SoCal VBOC
X-ALT-DESC;FMTTYPE=text/html:Did you know the SBA has resources and programs for veterans in the military community? If you are a transitioning or active-duty service member\, a veteran of any type\, or a military spouse\, the SBA is here to help. The purpose of this webinar is to inspire veterans and military spouses who want to become business owners and learn more about the Boots to Business and Boots to Business Reboot (B2BR) programs. Presented in collaboration with SBA OCIEDO\, Veteran Couture Inc\, and SoCal VBOC
LOCATION:Webinar-Pre-registration required
UID:e.2108.4254
SEQUENCE:3
DTSTAMP:20260423T230639Z
URL:https://business.anaheimchamber.org/events/details/veterans-webinar-series-session-1-boots-to-business-boots-to-business-reboot-4254
END:VEVENT

END:VCALENDAR
