BEGIN:VCALENDAR
VERSION:2.0
PRODID:-//ChamberMaster//Event Calendar 2.0//EN
METHOD:PUBLISH
X-PUBLISHED-TTL:P3D
REFRESH-INTERVAL:P3D
CALSCALE:GREGORIAN
BEGIN:VEVENT
DTSTART:20210222T180000Z
DTEND:20210222T193000Z
X-MICROSOFT-CDO-ALLDAYEVENT:FALSE
SUMMARY:Video Marketing
DESCRIPTION:Video marketing is an engaging\, modern marketing strategy that introduces video content as a format for telling stories\, delivering business messages\, educating an audience\, and the list goes on. It offers a ton of flexibility depending on a company's goals. For example a video interview can be turned into a podcast message with very little effort. Learn how to:   Build a video marketing strategy\, including the 7 secrets to successful video marketing   Leverage video marketing to grow your business: YouTube Channel Website and blog posts Social media platforms like\, Instagram\, Facebook\, and Twitter   Figure out what type of video to create (There are 5 popular types of videos)   Determine the equipment that works best for your purposes and budget. (Smart Phone\, Cam Recorder\, iPad\, laptop or desktop. Workbook and handouts included for the 2-hour workshop. This is to be interactive with Q&A.
X-ALT-DESC;FMTTYPE=text/html:<span style="font-family: Lato\, Arial\, Helvetica\, sans-serif\; font-size: 16px\;">Video marketing is an engaging\, modern marketing strategy that introduces video content as a format for telling stories\, delivering business messages\, educating an audience\, and the list goes on. It offers a ton of flexibility depending on a company&#39\;s goals. For example a video interview can be turned into a podcast message with very little effort. Learn how to: &bull\; Build a video marketing strategy\, including the 7 secrets to successful video marketing &bull\; Leverage video marketing to grow your business: YouTube Channel Website and blog posts Social media platforms like\, Instagram\, Facebook\, and Twitter &bull\; Figure out what type of video to create (There are 5 popular types of videos) &bull\; Determine the equipment that works best for your purposes and budget. (Smart Phone\, Cam Recorder\, iPad\, laptop or desktop. Workbook and handouts included for the 2-hour workshop. This is to be interactive with Q&amp\;A.</span>
LOCATION:Webinar
UID:e.2108.3890
SEQUENCE:3
DTSTAMP:20260423T054431Z
URL:https://business.anaheimchamber.org/events/details/video-marketing-3890
END:VEVENT

END:VCALENDAR
