BEGIN:VCALENDAR
VERSION:2.0
PRODID:-//ChamberMaster//Event Calendar 2.0//EN
METHOD:PUBLISH
X-PUBLISHED-TTL:P3D
REFRESH-INTERVAL:P3D
CALSCALE:GREGORIAN
BEGIN:VEVENT
DTSTART:20210204T020000Z
DTEND:20210204T030000Z
X-MICROSOFT-CDO-ALLDAYEVENT:FALSE
SUMMARY:WEBINAR: HOW TO START A SMALL BUSINESS
DESCRIPTION:If you are a new or aspiring business owner\, this workshop is a must! Learn the steps to starting your own business at the "How to Start a Small Business" workshop\, presented by an SBDC Business Consultant. This introductory course will discuss informational topics such as Being an Entrepreneur\, Business Planning\, Small Business Financing\, the Legal Forms of Organization\, Licensing and Permits\, and the No-Cost Services Offered By The Inland Empire SBDC.
X-ALT-DESC;FMTTYPE=text/html:<span style="color: rgb(101\, 101\, 101)\; font-family: &quot\;open sans&quot\;\, &quot\;arial narrow&quot\;\; font-size: 11px\; background-color: rgb(244\, 244\, 244)\;">If you are a new or aspiring business owner\, this workshop is a must! Learn the steps to starting your own business at the &ldquo\;How to Start a Small Business&rdquo\; workshop\, presented by an SBDC Business Consultant. This introductory course will discuss informational topics such as Being an Entrepreneur\, Business Planning\, Small Business Financing\, the Legal Forms of Organization\, Licensing and Permits\, and the No-Cost Services Offered By The Inland Empire SBDC.</span>
LOCATION:Webinar
UID:e.2108.3842
SEQUENCE:3
DTSTAMP:20260423T054508Z
URL:https://business.anaheimchamber.org/events/details/webinar-how-to-start-a-small-business-3842
END:VEVENT

END:VCALENDAR
