BEGIN:VCALENDAR
VERSION:2.0
PRODID:-//ChamberMaster//Event Calendar 2.0//EN
METHOD:PUBLISH
X-PUBLISHED-TTL:P3D
REFRESH-INTERVAL:P3D
CALSCALE:GREGORIAN
BEGIN:VEVENT
DTSTART:20210217T200000Z
DTEND:20210217T210000Z
X-MICROSOFT-CDO-ALLDAYEVENT:FALSE
SUMMARY:WEBINAR: HOW TO WRITE PRODUCT DESCRIPTIONS FOR YOUR ECOMMERCE SITE THAT WINS YOU CUSTOMERS
DESCRIPTION:One of the most challenging things for business owners is writing clear and effective product descriptions for their e-commerce website.\n\nCome to this webinar and walk away with actionable and useful tools to help you write e-commerce product descriptions that win you customers.\n\nWe will show examples of product descriptions that need improvement\, and how to re-write them to showcase the best product benefits that convert traffic to sales\, the e-commerce way.
X-ALT-DESC;FMTTYPE=text/html:<p style="box-sizing: inherit\; margin: 0px 0px 5px\; padding: 0px 0px 8px\; font-family: &quot\;open sans&quot\;\, &quot\;arial narrow&quot\;\; font-size: 11px\; line-height: 14.3px\; color: rgb(101\, 101\, 101)\; float: none\; background-color: rgb(244\, 244\, 244)\;">One of the most challenging things for business owners is writing clear and effective product descriptions for their e-commerce website.<br style="box-sizing: inherit\;" />\nCome to this webinar and walk away with actionable and useful tools to help you write e-commerce product descriptions that win you customers.</p>\n\n<p style="box-sizing: inherit\; margin: 0px 0px 5px\; padding: 0px 0px 8px\; font-family: &quot\;open sans&quot\;\, &quot\;arial narrow&quot\;\; font-size: 11px\; line-height: 14.3px\; color: rgb(101\, 101\, 101)\; float: none\; background-color: rgb(244\, 244\, 244)\;">We will show examples of product descriptions that need improvement\, and how to re-write them to showcase the best product benefits that convert traffic to sales\, the e-commerce way.</p>\n
LOCATION:Webinar
UID:e.2108.3846
SEQUENCE:3
DTSTAMP:20260423T054627Z
URL:https://business.anaheimchamber.org/events/details/webinar-how-to-write-product-descriptions-for-your-ecommerce-site-that-wins-you-customers-3846
END:VEVENT

END:VCALENDAR
