BEGIN:VCALENDAR
VERSION:2.0
PRODID:-//ChamberMaster//Event Calendar 2.0//EN
METHOD:PUBLISH
X-PUBLISHED-TTL:P3D
REFRESH-INTERVAL:P3D
CALSCALE:GREGORIAN
BEGIN:VEVENT
DTSTART:20210224T220000Z
DTEND:20210224T233000Z
X-MICROSOFT-CDO-ALLDAYEVENT:FALSE
SUMMARY:WEBINAR: HUMAN RESOURCE COMPLIANCE AND BEST PRACTICES
DESCRIPTION:Join us for this FREE webinar that will discuss best practices and COVID-19 Legislation updates. Topics include:\n\n\n	Onboarding Employees\n	Employee Retention\n	What to do with your B and C players\n	Interview questions you can ask and some you better not!\n	Employer and COVID-19 updates
X-ALT-DESC;FMTTYPE=text/html:<p style="box-sizing: inherit\; margin: 0px 0px 5px\; padding: 0px 0px 8px\; font-family: &quot\;open sans&quot\;\, &quot\;arial narrow&quot\;\; font-size: 11px\; line-height: 14.3px\; color: rgb(101\, 101\, 101)\; float: none\; background-color: rgb(244\, 244\, 244)\;">Join us for this FREE webinar that will discuss best practices and COVID-19 Legislation updates. Topics include:</p>\n\n<ul style="box-sizing: inherit\; margin: 0px\; padding-right: 0px\; padding-bottom: 5px\; padding-left: 15px\; list-style-position: initial\; list-style-image: initial\; color: rgb(101\, 101\, 101)\; font-family: &quot\;open sans&quot\;\, &quot\;arial narrow&quot\;\; background-color: rgb(244\, 244\, 244)\;">\n	<li style="box-sizing: inherit\; margin-bottom: 1rem\; border-bottom: 1px solid rgb(221\, 221\, 221)\; border-top: 1px solid rgb(221\, 221\, 221)\; padding: 0.5em 0px 10px\;">Onboarding Employees</li>\n	<li style="box-sizing: inherit\; margin-bottom: 1rem\; border-bottom: 1px solid rgb(221\, 221\, 221)\; border-top: 1px solid rgb(221\, 221\, 221)\; padding: 0.5em 0px 10px\; margin-top: -1px\;">Employee Retention</li>\n	<li style="box-sizing: inherit\; margin-bottom: 1rem\; border-bottom: 1px solid rgb(221\, 221\, 221)\; border-top: 1px solid rgb(221\, 221\, 221)\; padding: 0.5em 0px 10px\; margin-top: -1px\;">What to do with your B and C players</li>\n	<li style="box-sizing: inherit\; margin-bottom: 1rem\; border-bottom: 1px solid rgb(221\, 221\, 221)\; border-top: 1px solid rgb(221\, 221\, 221)\; padding: 0.5em 0px 10px\; margin-top: -1px\;">Interview questions you can ask and some you better not!</li>\n	<li style="box-sizing: inherit\; margin-bottom: 1rem\; border-bottom: 1px solid rgb(221\, 221\, 221)\; border-top: 1px solid rgb(221\, 221\, 221)\; padding: 0.5em 0px 10px\; margin-top: -1px\;">Employer and COVID-19 updates</li>\n</ul>\n
LOCATION:Webinar
UID:e.2108.3850
SEQUENCE:3
DTSTAMP:20260423T054432Z
URL:https://business.anaheimchamber.org/events/details/webinar-human-resource-compliance-and-best-practices-3850
END:VEVENT

END:VCALENDAR
