BEGIN:VCALENDAR
VERSION:2.0
PRODID:-//ChamberMaster//Event Calendar 2.0//EN
METHOD:PUBLISH
X-PUBLISHED-TTL:P3D
REFRESH-INTERVAL:P3D
CALSCALE:GREGORIAN
BEGIN:VEVENT
DTSTART:20210218T220000Z
DTEND:20210218T230000Z
X-MICROSOFT-CDO-ALLDAYEVENT:FALSE
SUMMARY:What Employers Needs to Know with Federal and State Financial Relief
DESCRIPTION:
X-ALT-DESC;FMTTYPE=text/html:
LOCATION:Webinar
UID:e.2108.3920
SEQUENCE:3
DTSTAMP:20260423T054818Z
URL:https://business.anaheimchamber.org/events/details/what-employers-needs-to-know-with-federal-and-state-financial-relief-3920
END:VEVENT

END:VCALENDAR
