BEGIN:VCALENDAR
VERSION:2.0
PRODID:-//ChamberMaster//Event Calendar 2.0//EN
METHOD:PUBLISH
X-PUBLISHED-TTL:P3D
REFRESH-INTERVAL:P3D
CALSCALE:GREGORIAN
BEGIN:VEVENT
DTSTART:20210210T020000Z
DTEND:20210210T033000Z
X-MICROSOFT-CDO-ALLDAYEVENT:FALSE
SUMMARY:What’s in a Name? Everything!!
DESCRIPTION:When people start a business\, they often don't give much thought to the name of the business and how critical it is to choose the right name before you get too invested in a name that isn't right for you. Come to this interactive workshop where we will help you decide early on what the best name is for your new business. We will go over common naming mistakes\, as well as help everyone feel good about the name they choose! If you already have a name\, great! Bring it with you and we will make sure it fits several criteria for what makes a business name great.
X-ALT-DESC;FMTTYPE=text/html:<span style="font-family: Lato\, Arial\, Helvetica\, sans-serif\; font-size: 16px\;">When people start a business\, they often don&#39\;t give much thought to the name of the business and how critical it is to choose the right name before you get too invested in a name that isn&#39\;t right for you. Come to this interactive workshop where we will help you decide early on what the best name is for your new business. We will go over common naming mistakes\, as well as help everyone feel good about the name they choose! If you already have a name\, great! Bring it with you and we will make sure it fits several criteria for what makes a business name great.</span>
LOCATION:Webinar
UID:e.2108.3872
SEQUENCE:3
DTSTAMP:20260423T054406Z
URL:https://business.anaheimchamber.org/events/details/what-s-in-a-name-everything-3872
END:VEVENT

END:VCALENDAR
