BEGIN:VCALENDAR
VERSION:2.0
PRODID:-//ChamberMaster//Event Calendar 2.0//EN
METHOD:PUBLISH
X-PUBLISHED-TTL:P3D
REFRESH-INTERVAL:P3D
CALSCALE:GREGORIAN
BEGIN:VEVENT
DTSTART:20210428T210000Z
DTEND:20210428T223000Z
X-MICROSOFT-CDO-ALLDAYEVENT:FALSE
SUMMARY:Workplace Investigations
DESCRIPTION:Webinar: Workplace Investigations\n\nDate: 4/28/21\n\nTime: 2:00 PM - 3:30 PM (PDT)\n\nStatus: Open - 492 places remaining\n\nRegistration Deadline: 4/28/21 8:00 AM (PDT)\n\nFee: No Fee\n\n\n\nPoint of Contact: Mary Takavorian (909) 983-5005\n\n\n\nProgram Format: Online Meeting (Live)\n\nTraining Topics: Human Resources\n\nDescription:\n\n\nWhether you are in Human Resources or a Management position you will certainly conduct or be a part of a workplace investigation. Your role is to protect your employees but also the organization. Situations will arise that you will need to investigate and failure to do so will most certainly result in litigation. This workshop will cover some procedures to protect the organization\, employees and display credibility to all. \n\nYou will receive a link to join this webinar the day before. \n\nThis event is brought to you in celebration of Riverside County Innovation Month. \n\nInstructions: \n\nA webinar link will be emailed to you the day before this webinar. There is no cost to participate!  \n\nThis webinar is brought to you at no cost by our county sponsors: Riverside County EDA and San Bernardino County\n\nThis webinar is brought to you at no cost by our city and chamber sponsors: City of Menifee and Menifee b3 Program\; City of Moreno Valley\; City of Ontario\; City of Rancho Cucamonga\; City of Riverside\; City of Temecula\; City of San Bernardino\; City of Upland\; City of Yucaipa\; Greater Riverside Chamber of Commerce\; Menifee Valley Chamber of Commerce\; Rancho Cucamonga Chamber of Commerce\; Temecula Valley Chamber of Commerce \n\nThis webinar is brought to you at no cost by our Financial Institution Sponsors: Accion\; Bank of America\; CDC Small Business Finance\; Union Bank\; Wells Fargo
X-ALT-DESC;FMTTYPE=text/html:<h1 style="font-size: 24px\; font-weight: bold\; line-height: 36px\; padding-top: 0px\; padding-bottom: 12px\; margin: 0px\; vertical-align: top\; color: rgb(0\, 0\, 0)\; font-family: Lato\, Arial\, Helvetica\, sans-serif\;">Webinar: Workplace Investigations</h1>\n\n<div id="info" style="margin-left: 0px\; margin-right: 10px\; padding-top: 5px\; color: rgb(0\, 0\, 0)\; font-family: Lato\, Arial\, Helvetica\, sans-serif\; font-size: 16px\;"><label style="font-weight: bold\; line-height: 20px\;">Date:</label>&nbsp\;4/28/21<br />\n<label style="font-weight: bold\; line-height: 20px\;">Time:</label>&nbsp\;2:00 PM - 3:30 PM (PDT)<br />\n<label style="font-weight: bold\; line-height: 20px\;">Status:</label>&nbsp\;Open - 492 places remaining<br />\n<label style="font-weight: bold\; line-height: 20px\;">Registration Deadline:</label>&nbsp\;4/28/21 8:00 AM (PDT)<br />\n<label style="font-weight: bold\; line-height: 20px\;">Fee:</label>&nbsp\;No Fee<br />\n<br />\n<label style="font-weight: bold\; line-height: 20px\;">Point of Contact:</label>&nbsp\;<a href="mailto:training@iesmallbusiness.com" style="color: rgb(45\, 119\, 179)\; text-decoration-line: none\;">Mary Takavorian&nbsp\;</a>(909) 983-5005<br />\n<br />\n<label style="font-weight: bold\; line-height: 20px\;">Program Format:</label>&nbsp\;Online Meeting (Live)<br />\n<label style="font-weight: bold\; line-height: 20px\;">Training Topics:</label>&nbsp\;Human Resources<br />\n<label style="font-weight: bold\; line-height: 20px\;">Description:</label>\n\n<div class="conf-desc" style="padding-top: 0px\; padding-bottom: 10px\;">\n<p style="margin-top: 0px\; margin-bottom: 10px\; line-height: 23.2px\;">Whether you are in Human Resources or a Management position you will certainly conduct or be a part of a workplace investigation. Your role is to protect your employees but also the organization. Situations will arise that you will need to investigate and failure to do so will most certainly result in litigation. This workshop will cover some procedures to protect the organization\, employees and display credibility to all.&nbsp\;</p>\n\n<p style="margin-top: 0px\; margin-bottom: 10px\; line-height: 23.2px\;">You will receive a link to join this webinar the day before.&nbsp\;</p>\n\n<p style="margin-top: 0px\; margin-bottom: 10px\; line-height: 23.2px\;">This event is brought to you in celebration of Riverside County Innovation Month.&nbsp\;</p>\n</div>\n<label style="font-weight: bold\; line-height: 20px\;">Instructions:</label>&nbsp\;\n\n<p style="margin-top: 0px\; margin-bottom: 10px\; line-height: 23.2px\;"><strong>A webinar link will be emailed to you the day before this webinar. There is no cost to participate!&nbsp\;</strong>&nbsp\;</p>\n\n<p style="margin-top: 0px\; margin-bottom: 10px\; line-height: 23.2px\;"><strong>This webinar is brought to you at no cost by our county sponsors:&nbsp\;</strong>Riverside County EDA and&nbsp\;San Bernardino County</p>\n\n<p style="margin-top: 0px\; margin-bottom: 10px\; line-height: 23.2px\;"><strong>This webinar is brought to you at no cost by our city and chamber sponsors:</strong>&nbsp\;City of Menifee and Menifee b3 Program\;&nbsp\;City of Moreno Valley\; City of Ontario\;&nbsp\;City of Rancho Cucamonga\; City of Riverside\;&nbsp\;City of Temecula\;&nbsp\;City of San Bernardino\;&nbsp\;City of Upland\;&nbsp\;City of Yucaipa\; Greater Riverside Chamber of Commerce\; Menifee Valley Chamber of Commerce\;&nbsp\;Rancho Cucamonga Chamber of Commerce\;&nbsp\;Temecula Valley Chamber of Commerce&nbsp\;</p>\n\n<p style="margin-top: 0px\; margin-bottom: 10px\; line-height: 23.2px\;"><strong>This webinar is brought to you at no cost by our Financial Institution Sponsors:</strong>&nbsp\;Accion\;&nbsp\;Bank of America\; CDC Small Business Finance\; Union Bank\;&nbsp\;Wells Fargo</p>\n\n<div>&nbsp\;</div>\n</div>\n
LOCATION:Webinar
UID:e.2108.4068
SEQUENCE:3
DTSTAMP:20260420T182815Z
URL:https://business.anaheimchamber.org/events/details/workplace-investigations-4068
END:VEVENT

END:VCALENDAR
