BEGIN:VCALENDAR
VERSION:2.0
PRODID:-//ChamberMaster//Event Calendar 2.0//EN
METHOD:PUBLISH
X-PUBLISHED-TTL:P3D
REFRESH-INTERVAL:P3D
CALSCALE:GREGORIAN
BEGIN:VEVENT
DTSTART:20200611T160000Z
DTEND:20200611T190000Z
X-MICROSOFT-CDO-ALLDAYEVENT:FALSE
SUMMARY:Would you like to know more about how AB 5 will affect your business or industry?
DESCRIPTION:California's Employment Development Department (EDD) will be hosting a series of seminars discussing Assembly Bill 5 and the impacts it has throughout the year. During the seminar\, they will go over the ABC Test\, how to go about determining whether a worker is an employee or an independent contractor\, as well as provide resources to aid in classifying workers.
X-ALT-DESC;FMTTYPE=text/html:<span style="color:black\;"><span style="font-family:helvetica\,sans-serif\;"><span style="font-size:12.0pt\;">California&#39\;s Employment Development Department (EDD)&nbsp\;</span></span></span><span style="color:black\;"><span style="font-family:helvetica\,sans-serif\;"><span style="font-size:11.0pt\;">will be hosting a series of seminars discussing Assembly Bill 5 and the impacts it has throughout the year. During the seminar\, they will go over the ABC Test\, how to go about determining whether a worker is an employee or an independent contractor\, as well as provide resources to aid in classifying workers.</span></span></span>
LOCATION:17891 Cartwright Rd. Irvine 92614
UID:e.2108.3162
SEQUENCE:3
DTSTAMP:20260423T025444Z
URL:https://business.anaheimchamber.org/events/details/would-you-like-to-know-more-about-how-ab-5-will-affect-your-business-or-industry-3162
END:VEVENT

END:VCALENDAR
