BEGIN:VCALENDAR
VERSION:2.0
PRODID:-//ChamberMaster//Event Calendar 2.0//EN
METHOD:PUBLISH
X-PUBLISHED-TTL:P3D
REFRESH-INTERVAL:P3D
CALSCALE:GREGORIAN
BEGIN:VEVENT
DTSTART:20200616T160000Z
DTEND:20200616T190000Z
X-MICROSOFT-CDO-ALLDAYEVENT:FALSE
SUMMARY:Would you like to know more about how AB 5 will affect your business or industry?
DESCRIPTION:California's Employment Development Department (EDD) will be hosting a series of seminars discussing Assembly Bill 5 and the impacts it has throughout the year. During the seminar\, they will go over the ABC Test\, how to go about determining whether a worker is an employee or an independent contractor\, as well as provide resources to aid in classifying workers.\n\n\n\nBelow is a list of the upcoming seminars across the state. To see the full list of seminars and to register for a seminar\, visit the EDD's website here.
X-ALT-DESC;FMTTYPE=text/html:<span style="color:black\;"><span style="font-family:helvetica\,sans-serif\;">California&#39\;s Employment Development Department (EDD)&nbsp\;</span></span><span style="color:black\;"><span style="font-family:helvetica\,sans-serif\;"><span style="font-size:11.0pt\;">will be hosting a series of seminars discussing Assembly Bill 5 and the impacts it has throughout the year. During the seminar\, they will go over the ABC Test\, how to go about determining whether a worker is an employee or an independent contractor\, as well as provide resources to aid in classifying workers.<br />\n<br />\nBelow is a list of the upcoming seminars across the state. <strong><span style="font-family:helvetica\,sans-serif\;">To see the full list of seminars and to register for a seminar</span></strong>\, visit the EDD&#39\;s website <a href="https://www.votervoice.net/BroadcastLinks/0pQuDgKuUV1x7dNJ6tSYkg" target="_blank">here</a>.<br />\n&nbsp\; </span></span></span>
LOCATION:1055 Wilshire Blvd. 900B Los Angeles 90017
UID:e.2108.3163
SEQUENCE:3
DTSTAMP:20260423T030418Z
URL:https://business.anaheimchamber.org/events/details/would-you-like-to-know-more-about-how-ab-5-will-affect-your-business-or-industry-3163
END:VEVENT

END:VCALENDAR
