BEGIN:VCALENDAR
VERSION:2.0
PRODID:-//ChamberMaster//Event Calendar 2.0//EN
METHOD:PUBLISH
X-PUBLISHED-TTL:P3D
REFRESH-INTERVAL:P3D
CALSCALE:GREGORIAN
BEGIN:VEVENT
DTSTART:20210223T020000Z
DTEND:20210223T033000Z
X-MICROSOFT-CDO-ALLDAYEVENT:FALSE
SUMMARY:Writing A Winning Business Plan
DESCRIPTION:A well-written business plan can help focus your planning efforts and give potential lenders or investors a positive picture of your goals. Spend time with an experienced trainer to learn the steps to follow to make the writing process less tedious and gain insights on where to gather the information you need to write a winning plan.
X-ALT-DESC;FMTTYPE=text/html:<span style="font-family: Lato\, Arial\, Helvetica\, sans-serif\; font-size: 16px\;">A well-written business plan can help focus your planning efforts and give potential lenders or investors a positive picture of your goals. Spend time with an experienced trainer to learn the steps to follow to make the writing process less tedious and gain insights on where to gather the information you need to write a winning plan.</span>
LOCATION:Webinar
UID:e.2108.3892
SEQUENCE:3
DTSTAMP:20260423T054407Z
URL:https://business.anaheimchamber.org/events/details/writing-a-winning-business-plan-3892
END:VEVENT

END:VCALENDAR
