BEGIN:VCALENDAR
VERSION:2.0
PRODID:-//ChamberMaster//Event Calendar 2.0//EN
METHOD:PUBLISH
X-PUBLISHED-TTL:P3D
REFRESH-INTERVAL:P3D
CALSCALE:GREGORIAN
BEGIN:VEVENT
DTSTART:20180704T163000Z
DTEND:20180704T190000Z
X-MICROSOFT-CDO-ALLDAYEVENT:FALSE
SUMMARY:Yankee Doodle Dog Show 2018
DESCRIPTION:Yankee Doodle Dog Show\n\nIs your dog the cutest or most patriotic July 4th dog?\n\nJoin us for tons of fun at this years Yankee Doodle Dog Show
X-ALT-DESC;FMTTYPE=text/html:<span style="font-family:comic sans ms\;"><span style="font-size:20px\;">Yankee Doodle Dog Show<br />\nIs your dog the cutest or most patriotic&nbsp\;July 4th&nbsp\;dog?<br />\nJoin us for tons of fun at this years Yankee Doodle Dog Show</span></span>
LOCATION:Canyon High School Outdoor Amphitheatre
UID:e.2108.2436
SEQUENCE:3
DTSTAMP:20260422T234942Z
URL:https://business.anaheimchamber.org/events/details/yankee-doodle-dog-show-2018-2436
END:VEVENT

END:VCALENDAR
